BEGIN:VCALENDAR
VERSION:2.0
PRODID:-//eventon.com NONSGML v1.0//EN
CALSCALE:GREGORIAN
METHOD:PUBLISH
BEGIN:VEVENT
UID:69e8edf4682e6
DTSTAMP:20260422T154908Z
DTSTART:20260516T080000Z
DTEND:20260517T180000Z
LOCATION:La Farga Centre d&#039;Activitats
SUMMARY:RETROBARCELONA 2026
DESCRIPTION:La Farga Centre d&#8217;Activitats acollirÃ  l&#8217;11a ediciÃ
 ³ de RetroBarcelona\,  els dies 16 i 17 de maig de 2026\,  el salÃ³ dedicat
  a la retroinformÃ tica i el videojoc clÃ ssic\,  organitzat per l&#8217;As
 sociaciÃ³ Cultural RetroBarcelona. Una nova ediciÃ³ de l&#8217;esdeveniment
  referent a nivell espanyol que enguany torna a ampliar l&#8217;espai: de 6
 .000m2[..]
URL:https://www.lafargalhospitalet.com/ca/events/retrobarcelona-7/
END:VEVENT
END:VCALENDAR