BEGIN:VCALENDAR
VERSION:2.0
PRODID:-//eventon.com NONSGML v1.0//EN
CALSCALE:GREGORIAN
METHOD:PUBLISH
BEGIN:VEVENT
UID:69e8ec5552c24
DTSTAMP:20260422T154213Z
DTSTART:20260603T070000Z
DTEND:20260604T160000Z
LOCATION:La Farga Centre d&#039;Activitats
SUMMARY:NET ZERO TECH
DESCRIPTION:Arriba la tercera edició de Net Zero Tech\,  que es durà a te
 rme els dies 3 i 4 de juny de 2026\,  a La Farga Centre d&#8217;Activitats.
  Aquest saló fira reunirà empreses líders en tecnologies de zero emissio
 ns\,  juntament amb experts i professionals compromesos amb la transició c
 ap a la[..]
URL:https://www.lafargalhospitalet.com/ca/events/net-zero-tech-5/
END:VEVENT
END:VCALENDAR