BEGIN:VCALENDAR
VERSION:2.0
PRODID:-//eventon.com NONSGML v1.0//EN
CALSCALE:GREGORIAN
METHOD:PUBLISH
BEGIN:VEVENT
UID:69e8edc1ed77b
DTSTAMP:20260422T154817Z
DTSTART:20261021T070000Z
DTEND:20261022T153000Z
LOCATION:La Farga Centre d&#039;Activitats
SUMMARY:COSMETORIUM
DESCRIPTION:Cosmetorium és el punt de trobada més gran de la indústria c
 osmètica del nostre país on conèixer les últimes novetats del sector. A
 quest certamen\,  que se celebra els dies 21 i 22 d&#8217;octubre de 2026\,
   comptarà amb la presència de més expositors nacionals i internacionals
  i centenars de professionals de[..]
URL:https://www.lafargalhospitalet.com/ca/events/cosmetorium-2/
END:VEVENT
END:VCALENDAR