BEGIN:VCALENDAR
VERSION:2.0
PRODID:-//eventon.com NONSGML v1.0//EN
CALSCALE:GREGORIAN
METHOD:PUBLISH
BEGIN:VEVENT
UID:69e8ee0b81d7c
DTSTAMP:20260422T154931Z
DTSTART:20261015T070000Z
DTEND:20261015T160000Z
LOCATION:La Farga Centre d&#039;Activitats
SUMMARY:CONGRÉS FACTOR HUMANO
DESCRIPTION:La Farga Centre d&#8217;Activitats acull\,  el proper dijous\, 
  15 d&#8217;octubre de 2026\,  el Congrés Factor Humano\,  esdeveniment ex
 clusiu per als professionals que integren els departaments de Recursos Huma
 ns de les empreses\,  tant públiques com privades\,  on conèixer l&#8217;
 actualitat del sector a través de les taules de debat\,  tallers i els[..]
URL:https://www.lafargalhospitalet.com/ca/events/congres-factor-humano-5/
END:VEVENT
END:VCALENDAR