BEGIN:VCALENDAR
VERSION:2.0
PRODID:-//eventon.com NONSGML v1.0//EN
CALSCALE:GREGORIAN
METHOD:PUBLISH
BEGIN:VEVENT
UID:69e8ec40528d3
DTSTAMP:20260422T154152Z
DTSTART:20260918T130000Z
DTEND:20260918T160000Z
LOCATION:La Farga Centre d&#039;Activitats
SUMMARY:PROVES CERTIFICAT D'APTITUD PROFESSIONAL (CAP)
DESCRIPTION:La Farga Centre d’Activitats acull el proper divendres\,  18 
 de setembre de 2026\,  noves proves per a l’obtenció del Certificat d’
 Aptitud Professional (CAP)\,  per a l’exercici de l’activitat de conduc
 tor/a professional de determinats vehicles destinats al transport de mercad
 eries.
URL:https://www.lafargalhospitalet.com/ca/events/proves-certificat-daptitud-professional-cap-57/
END:VEVENT
END:VCALENDAR