BEGIN:VCALENDAR
VERSION:2.0
PRODID:-//eventon.com NONSGML v1.0//EN
CALSCALE:GREGORIAN
METHOD:PUBLISH
BEGIN:VEVENT
UID:69e8edf551e34
DTSTAMP:20260422T154909Z
DTSTART:20261111T080000Z
DTEND:20261111T130000Z
LOCATION:La Farga Centre d&#039;Activitats
SUMMARY:PROVES CONSELLERS DE SEGURETAT
DESCRIPTION:La Farga Centre d’Activitats acull\,  dimecres 11 de novembre
  de 2026\,  les proves per a aquelles persones que volen obtenir o renovar 
 el certificat de capacitació professional de Consellers de seguretat de tr
 ansport de mercaderies perilloses per carretera.
URL:https://www.lafargalhospitalet.com/ca/events/proves-consellers-de-seguretat-6/
END:VEVENT
END:VCALENDAR