BEGIN:VCALENDAR
VERSION:2.0
PRODID:-//eventon.com NONSGML v1.0//EN
CALSCALE:GREGORIAN
METHOD:PUBLISH
BEGIN:VEVENT
UID:69e8d5c43bc19
DTSTAMP:20260422T140556Z
DTSTART:20261015T070000Z
DTEND:20261015T160000Z
LOCATION:La Farga Centre d&#039;Activitats
SUMMARY:CONGRESO FACTOR HUMANO
DESCRIPTION:La Farga Centro de Actividades acoge\,  el próximo jueves\,  1
 5 de octubre de 2026\,  el Congreso Factor Humano\,  un evento exclusivo pa
 ra los profesionales que integran los departamentos de Recursos Humanos de 
 las empresas\,  tanto públicas como privadas\,  donde conocer la actualida
 d del sector a través de mesas de debate\, [..]
URL:https://www.lafargalhospitalet.com/en/events/congreso-factor-humano-3/
END:VEVENT
END:VCALENDAR