BEGIN:VCALENDAR
VERSION:2.0
PRODID:-//eventon.com NONSGML v1.0//EN
CALSCALE:GREGORIAN
METHOD:PUBLISH
BEGIN:VEVENT
UID:69e8d7cbcd5c0
DTSTAMP:20260422T141435Z
DTSTART:20261029T080000Z
DTEND:20261029T170000Z
LOCATION:La Farga Centre d&#039;Activitats
SUMMARY:FERIA DE OCUPACIÓN DE L'HOSPITALET
DESCRIPTION:El próximo jueves 29 de octubre de 2026\,  La Farga Centre d&#
 8217;Activitats será el escenario de una nueva edición de la Feria de Ocu
 pación de L&#8217;Hospitalet\,  un encuentro dirigido a profesionales\,  e
 mpresas y ciudadanía que supondrá un espacio para encontrar trabajo\,  ha
 cer contactos y crecer profesionalmente. Con esta iniciativa\,  el[..]
URL:https://www.lafargalhospitalet.com/en/events/feria-de-ocupacion-de-lhospitalet/
END:VEVENT
END:VCALENDAR