BEGIN:VCALENDAR
VERSION:2.0
PRODID:-//eventon.com NONSGML v1.0//EN
CALSCALE:GREGORIAN
METHOD:PUBLISH
BEGIN:VEVENT
UID:69e8d7a895f83
DTSTAMP:20260422T141400Z
DTSTART:20260608T130000Z
DTEND:20260609T173000Z
LOCATION:La Farga Congress
SUMMARY:PRUEBAS DE SELECCIÓN PARA EL AYUNTAMIENTO DE L'HOSPITALET
DESCRIPTION:La Sala Polivalente de La Farga Congress acoge el 8 y 9 de juni
 o de 2026 pruebas que convoca el Ayuntamiento de L&#8217;Hospitalet de sele
 cción de personal para diferentes puestos de trabajo.
URL:https://www.lafargalhospitalet.com/en/events/pruebas-de-seleccion-para-el-ayuntamiento-de-lhospitalet-55/
END:VEVENT
END:VCALENDAR