BEGIN:VCALENDAR
VERSION:2.0
PRODID:-//eventon.com NONSGML v1.0//EN
CALSCALE:GREGORIAN
METHOD:PUBLISH
BEGIN:VEVENT
UID:69e8d7a746db1
DTSTAMP:20260422T141359Z
DTSTART:20260717T130000Z
DTEND:20260717T160000Z
LOCATION:La Farga Centre d&#039;Activitats
SUMMARY:PRUEBAS CERTIFICADO DE APTITUD PROFESIONAL (CAP)
DESCRIPTION:La Farga Centro de Actividades acoge el próximo viernes\,  17 
 de julio de 2026\,  nuevas pruebas para la obtención del Certificado de Ap
 titud Profesional (CAP)\,  para el ejercicio de la actividad de conductor/a
  profesional de determinados vehículos destinados al transporte de mercanc
 ías.
URL:https://www.lafargalhospitalet.com/en/events/pruebas-certificado-de-aptitud-profesional-cap-37/
END:VEVENT
END:VCALENDAR