BEGIN:VCALENDAR
VERSION:2.0
PRODID:-//eventon.com NONSGML v1.0//EN
CALSCALE:GREGORIAN
METHOD:PUBLISH
BEGIN:VEVENT
UID:69e8d7a747180
DTSTAMP:20260422T141359Z
DTSTART:20261113T140000Z
DTEND:20261113T170000Z
LOCATION:La Farga Centre d&#039;Activitats
SUMMARY:PRUEBAS CERTIFICADO DE APTITUD PROFESIONAL (CAP)
DESCRIPTION:La Farga Centro de Actividades acoge el próximo viernes\,  13 
 de noviembre de 2026\,  nuevas pruebas para la obtención del Certificado d
 e Aptitud Profesional (CAP)\,  para el ejercicio de la actividad de conduct
 or/a profesional de determinados vehículos destinados al transporte de mer
 cancías.
URL:https://www.lafargalhospitalet.com/en/events/pruebas-certificado-de-aptitud-profesional-cap-39/
END:VEVENT
END:VCALENDAR