BEGIN:VCALENDAR
VERSION:2.0
PRODID:-//eventon.com NONSGML v1.0//EN
CALSCALE:GREGORIAN
METHOD:PUBLISH
BEGIN:VEVENT
UID:69eb86fa85f19
DTSTAMP:20260424T150634Z
DTSTART:20240511T150000Z
DTEND:20240511T230000Z
LOCATION:La Farga Centre d&#039;Activitats
SUMMARY:FURY HARD TECHNO FESTIVAL
DESCRIPTION:La Farga Centro de Actividades acoge por primera vez este clás
 ico festival hard techno. Más información
URL:https://www.lafargalhospitalet.com/events/fury-hard-techno-festival/
END:VEVENT
END:VCALENDAR