BEGIN:VCALENDAR
VERSION:2.0
PRODID:-//eventon.com NONSGML v1.0//EN
CALSCALE:GREGORIAN
METHOD:PUBLISH
BEGIN:VEVENT
UID:69e8fe6c0652f
DTSTAMP:20260422T165924Z
DTSTART:20260905T080000Z
DTEND:20260906T190000Z
LOCATION:La Farga Centre d&#039;Activitats
SUMMARY:INFREFEST 2026
DESCRIPTION:La Farga Centre d&#8217;Activitats acull el cap de setmana del 
 5 i 6 de setembre\,  Infrefest 2026\,  un festival dedicat a jocs de cartes
  col·leccionables\,  com Magic: The Gathering\,  jocs de rol i jocs de tau
 la\,  organitzat pel canal de YouTube Infrecuentes i pensat per a la comuni
 tat seguidors (de[..]
URL:https://www.lafargalhospitalet.com/events/infrefest-2026/
END:VEVENT
END:VCALENDAR