BEGIN:VCALENDAR
VERSION:2.0
PRODID:-//eventon.com NONSGML v1.0//EN
CALSCALE:GREGORIAN
METHOD:PUBLISH
BEGIN:VEVENT
UID:69e8fd98b71c7
DTSTAMP:20260422T165552Z
DTSTART:20261212T070000Z
DTEND:20261212T190000Z
LOCATION:La Farga Centre d&#039;Activitats
SUMMARY:ACTES DE GRADUACIÃ“ DE LA UOC
DESCRIPTION:La Farga Centre d&#8217;Activitats tornarÃ  a ser escenari dels
  actes de graduaciÃ³ de la Universitat Oberta de Catalunya. MÃ©s de 12.000Â
  nous graduats de la promociÃ³ 2025-2026 estan convocats a celebrar la seva
  graduaciÃ³. Seran actes hÃ­brids: els convocats hi assistiran presencialme
 nt o bÃ© en remot i\,  a mÃ©s\,  s&#8217;emetran en[..]
URL:https://www.lafargalhospitalet.com/events/actes-de-graduacio-de-la-uoc-2/
END:VEVENT
END:VCALENDAR