BEGIN:VCALENDAR
VERSION:2.0
PRODID:-//eventon.com NONSGML v1.0//EN
CALSCALE:GREGORIAN
METHOD:PUBLISH
BEGIN:VEVENT
UID:69e8fdf7f1c03
DTSTAMP:20260422T165727Z
DTSTART:20261118T080000Z
DTEND:20261119T163000Z
LOCATION:La Farga Centre d&#039;Activitats
SUMMARY:PAINT & COATINGS
DESCRIPTION:El saló Paint &amp; Coatings que se celebra a La Farga Centre 
 d&#8217;Activitats\,  els dies 18 i 19 de novembre de 2026\,  és una fira 
 professional especialitzada en la indústria de les pintures\,  recobriment
 s\,  tintes d’impressió\,  adhesius i tractament de superfícies. És un
  dels esdeveniments de referència del sector a[..]
URL:https://www.lafargalhospitalet.com/events/paint-coatings-5/
END:VEVENT
END:VCALENDAR