BEGIN:VCALENDAR
VERSION:2.0
PRODID:-//eventon.com NONSGML v1.0//EN
CALSCALE:GREGORIAN
METHOD:PUBLISH
BEGIN:VEVENT
UID:69e8ff0f11cc9
DTSTAMP:20260422T170207Z
DTSTART:20261004T080000Z
DTEND:20261005T170000Z
LOCATION:La Farga Centre d&#039;Activitats
SUMMARY:MEAT XPERIENCE
DESCRIPTION:Meat Xperience és una fira especialitzada dedicada al sector c
 arni\,  dissenyada per a carnissers\,  xarcuters i botigues gurmet de produ
 ctes carnis\,  que se celebra per segona vegada a La Farga Centre d&#8217;A
 ctivitats. Durant aquest esdeveniment de dos dies\,  4 i 5 d&#8217;octubre 
 de 2026\,  els visitants tenen l&#8217;oportunitat de submergir-se[..]
URL:https://www.lafargalhospitalet.com/events/meat-xperience-3/
END:VEVENT
END:VCALENDAR