BEGIN:VCALENDAR
VERSION:2.0
PRODID:-//eventon.com NONSGML v1.0//EN
CALSCALE:GREGORIAN
METHOD:PUBLISH
BEGIN:VEVENT
UID:69e8ffa420598
DTSTAMP:20260422T170436Z
DTSTART:20260922T140000Z
DTEND:20260924T140000Z
LOCATION:La Farga Centre d&#039;Activitats
SUMMARY:AUTOSENS EUROPE & INCABIN EUROPE
DESCRIPTION:Els salons AutoSens Europe i InCabin Europe són dos esdevenime
 nts internacionals co-localitzats\,  centrats en les tecnologies avançades
  per al vehicle intel·ligent\,  i tenen lloc del 22 al 24 de setembre de 2
 026 a La Farga de L’Hospitalet. Formen una de les trobades professionals 
 més rellevants d’Europa en l’àmbit de l’automoció[..]
URL:https://www.lafargalhospitalet.com/events/autosens-europe-incabin-europe/
END:VEVENT
END:VCALENDAR