BEGIN:VCALENDAR
VERSION:2.0
PRODID:-//eventon.com NONSGML v1.0//EN
CALSCALE:GREGORIAN
METHOD:PUBLISH
BEGIN:VEVENT
UID:69e8edb689b27
DTSTAMP:20260422T154806Z
DTSTART:20260420T070000Z
DTEND:20260424T170000Z
LOCATION:La Farga Centre d&#039;Activitats
SUMMARY:DISPOSITIVO ESPECIAL PARA TRÁMITES DE REGULARIZACIÓN EXTRAORDINARIA DE PERSONAS MIGRANTES
DESCRIPTION:El Ayuntamiento de L’Hospitalet pondrá en marcha\,  a partir
  del lunes\,  20 de abril\,  un dispositivo especial centralizado para ac
 ompañar la ciudadanía en la tramitación de los documentos necesarios en 
 el marco del proceso extraordinario de regularización de personas migrant
 es promovido por el gobierno de España. El dispositivo estará en La Far
 ga Centro de Actividades con[..]
URL:https://www.lafargalhospitalet.com/events/dispositivo-especial-para-tramites-de-regularizacion-extraordinaria-de-personas-migrantes/
END:VEVENT
END:VCALENDAR