BEGIN:VCALENDAR
VERSION:2.0
PRODID:-//eventon.com NONSGML v1.0//EN
CALSCALE:GREGORIAN
METHOD:PUBLISH
BEGIN:VEVENT
UID:69e90025907d0
DTSTAMP:20260422T170645Z
DTSTART:20260427T070000Z
DTEND:20260430T170000Z
LOCATION:La Farga Centre d&#039;Activitats
SUMMARY:DISPOSITIU ESPECIAL PER A TRÀMITS DE REGULARITZACIÓ EXTRAORDINÀRIA DE PERSONES MIGRANTS
DESCRIPTION:L’Ajuntament de L’Hospitalet posarà en marxa\,  a partir d
 e dilluns\,  20 d’abril\,  un dispositiu especial centralitzat per acom
 panyar la ciutadania en la tramitació dels documents necessaris en el marc
  del procés extraordinari de regularització de persones migrants promog
 ut pel govern d’Espanya. El dispositiu serà a La Farga Centre d’Activ
 itats amb accés pel carrer de Barcelona. L’horari[..]
URL:https://www.lafargalhospitalet.com/events/dispositiu-especial-per-a-tramits-de-regularitzacio-extraordinaria-de-persones-migrants-copy/
END:VEVENT
END:VCALENDAR